BEGIN:VCALENDAR
VERSION:2.0
PRODID:-//St. Peter&#039;s Preschool &amp; Kindergarten - ECPv6.15.16//NONSGML v1.0//EN
CALSCALE:GREGORIAN
METHOD:PUBLISH
X-WR-CALNAME:St. Peter&#039;s Preschool &amp; Kindergarten
X-ORIGINAL-URL:https://stpeterslakemaryschool.org
X-WR-CALDESC:Events for St. Peter&#039;s Preschool &amp; Kindergarten
REFRESH-INTERVAL;VALUE=DURATION:PT1H
X-Robots-Tag:noindex
X-PUBLISHED-TTL:PT1H
BEGIN:VTIMEZONE
TZID:UTC
BEGIN:STANDARD
TZOFFSETFROM:+0000
TZOFFSETTO:+0000
TZNAME:UTC
DTSTART:20220101T000000
END:STANDARD
END:VTIMEZONE
BEGIN:VEVENT
DTSTART;TZID=UTC:20231120T080000
DTEND;TZID=UTC:20231124T170000
DTSTAMP:20260423T165123
CREATED:20231012T195807Z
LAST-MODIFIED:20231012T195807Z
UID:742-1700467200-1700845200@stpeterslakemaryschool.org
SUMMARY:No School - Thanksgiving Break
DESCRIPTION:No School\nHappy Thanksgiving\n11/20 – 11/24
URL:https://stpeterslakemaryschool.org/event/no-school-thanksgiving-break/
END:VEVENT
BEGIN:VEVENT
DTSTART;TZID=UTC:20231117T093000
DTEND;TZID=UTC:20231117T113000
DTSTAMP:20260423T165123
CREATED:20231012T195715Z
LAST-MODIFIED:20231012T195715Z
UID:740-1700213400-1700220600@stpeterslakemaryschool.org
SUMMARY:Living History Village MWF 2s\, MWF 3s\, 5/4s\, K
DESCRIPTION:Living History Village \nMWF 2s \nMWF 3s \n5/4s \nK \n9:30-11:30am
URL:https://stpeterslakemaryschool.org/event/living-history-village-mwf-2s-mwf-3s-5-4s-k/
END:VEVENT
BEGIN:VEVENT
DTSTART;TZID=UTC:20231116T093000
DTEND;TZID=UTC:20231116T113000
DTSTAMP:20260423T165123
CREATED:20231012T195632Z
LAST-MODIFIED:20231012T195632Z
UID:738-1700127000-1700134200@stpeterslakemaryschool.org
SUMMARY:Living History Village T/Th 2s\, T/Th 3s\, 4/3s\, 4/4s
DESCRIPTION:
URL:https://stpeterslakemaryschool.org/event/living-history-village-t-th-2s-t-th-3s-4-3s-4-4s/
END:VEVENT
BEGIN:VEVENT
DTSTART;TZID=UTC:20231031T093000
DTEND;TZID=UTC:20231031T120000
DTSTAMP:20260423T165123
CREATED:20231012T195410Z
LAST-MODIFIED:20231012T195420Z
UID:732-1698744600-1698753600@stpeterslakemaryschool.org
SUMMARY:Fall Festival & Pumpkin Patch Storytime T/Th 2s  T/Th 3s\,  4/3s\, 4/4s
DESCRIPTION:T/Th 2s \nT/Th 3s\, \n4/3s\, 4/4s \n9:30am-12:00pm
URL:https://stpeterslakemaryschool.org/event/fall-festival-pumpkin-patch-storytime-2/
END:VEVENT
BEGIN:VEVENT
DTSTART;TZID=UTC:20231030T093000
DTEND;TZID=UTC:20231030T120000
DTSTAMP:20260423T165123
CREATED:20231012T195218Z
LAST-MODIFIED:20231012T195436Z
UID:730-1698658200-1698667200@stpeterslakemaryschool.org
SUMMARY:Fall Festival & Pumpkin Patch Storytime MWF 2s  MWF 3s\, 5/4s\, K
DESCRIPTION:MWF 2s \nMWF 3s\, 5/4s\, K \n 
URL:https://stpeterslakemaryschool.org/event/fall-festival-pumpkin-patch-storytime/
END:VEVENT
BEGIN:VEVENT
DTSTART;TZID=UTC:20231026T180000
DTEND;TZID=UTC:20231026T193000
DTSTAMP:20260423T165123
CREATED:20231012T195047Z
LAST-MODIFIED:20231012T195047Z
UID:728-1698343200-1698348600@stpeterslakemaryschool.org
SUMMARY:Trunk or Treat
DESCRIPTION:St. Peter’s Preschool\nTrunk or Treat Event\n6:00-7:30 pm
URL:https://stpeterslakemaryschool.org/event/trunk-or-treat/
END:VEVENT
BEGIN:VEVENT
DTSTART;TZID=UTC:20231016T080000
DTEND;TZID=UTC:20231016T170000
DTSTAMP:20260423T165123
CREATED:20231012T195517Z
LAST-MODIFIED:20231012T195517Z
UID:736-1697443200-1697475600@stpeterslakemaryschool.org
SUMMARY:No School
DESCRIPTION:No school 10/16
URL:https://stpeterslakemaryschool.org/event/no-school-2/
END:VEVENT
BEGIN:VEVENT
DTSTART;TZID=UTC:20230907T133000
DTEND;TZID=UTC:20230907T133000
DTSTAMP:20260423T165123
CREATED:20230809T180833Z
LAST-MODIFIED:20230809T180833Z
UID:535-1694093400-1694093400@stpeterslakemaryschool.org
SUMMARY:Grandparent Stop & Shop event
DESCRIPTION:
URL:https://stpeterslakemaryschool.org/event/grandparent-stop-shop-event/
END:VEVENT
BEGIN:VEVENT
DTSTART;TZID=UTC:20230905T133000
DTEND;TZID=UTC:20230908T023000
DTSTAMP:20260423T165123
CREATED:20230809T180714Z
LAST-MODIFIED:20230809T180714Z
UID:533-1693920600-1694140200@stpeterslakemaryschool.org
SUMMARY:Book Fair
DESCRIPTION:
URL:https://stpeterslakemaryschool.org/event/book-fair/
END:VEVENT
BEGIN:VEVENT
DTSTART;VALUE=DATE:20230904
DTEND;VALUE=DATE:20230905
DTSTAMP:20260423T165123
CREATED:20230809T180554Z
LAST-MODIFIED:20230809T180618Z
UID:531-1693785600-1693871999@stpeterslakemaryschool.org
SUMMARY:No School
DESCRIPTION:
URL:https://stpeterslakemaryschool.org/event/no-school/
END:VEVENT
BEGIN:VEVENT
DTSTART;TZID=UTC:20230810T090000
DTEND;TZID=UTC:20230810T100000
DTSTAMP:20260423T165123
CREATED:20230809T180322Z
LAST-MODIFIED:20230809T180332Z
UID:525-1691658000-1691661600@stpeterslakemaryschool.org
SUMMARY:BooHoo Breakfast
DESCRIPTION:
URL:https://stpeterslakemaryschool.org/event/boohoo-breakfast/
LOCATION:Barge Hall
END:VEVENT
END:VCALENDAR